BEGIN:VCALENDAR
VERSION:2.0
PRODID:-//Le Gest - ECPv6.15.17.1//NONSGML v1.0//EN
CALSCALE:GREGORIAN
METHOD:PUBLISH
X-ORIGINAL-URL:https://www.legest.fr
X-WR-CALDESC:Évènements pour Le Gest
REFRESH-INTERVAL;VALUE=DURATION:PT1H
X-Robots-Tag:noindex
X-PUBLISHED-TTL:PT1H
BEGIN:VTIMEZONE
TZID:Europe/Paris
BEGIN:DAYLIGHT
TZOFFSETFROM:+0100
TZOFFSETTO:+0200
TZNAME:CEST
DTSTART:20230326T010000
END:DAYLIGHT
BEGIN:STANDARD
TZOFFSETFROM:+0200
TZOFFSETTO:+0100
TZNAME:CET
DTSTART:20231029T010000
END:STANDARD
BEGIN:DAYLIGHT
TZOFFSETFROM:+0100
TZOFFSETTO:+0200
TZNAME:CEST
DTSTART:20240331T010000
END:DAYLIGHT
BEGIN:STANDARD
TZOFFSETFROM:+0200
TZOFFSETTO:+0100
TZNAME:CET
DTSTART:20241027T010000
END:STANDARD
BEGIN:DAYLIGHT
TZOFFSETFROM:+0100
TZOFFSETTO:+0200
TZNAME:CEST
DTSTART:20250330T010000
END:DAYLIGHT
BEGIN:STANDARD
TZOFFSETFROM:+0200
TZOFFSETTO:+0100
TZNAME:CET
DTSTART:20251026T010000
END:STANDARD
END:VTIMEZONE
BEGIN:VEVENT
DTSTART;TZID=Europe/Paris:20240229T183000
DTEND;TZID=Europe/Paris:20240229T223000
DTSTAMP:20260422T121902
CREATED:20240207T105137Z
LAST-MODIFIED:20240207T142846Z
UID:8182-1709231400-1709245800@www.legest.fr
SUMMARY:Assemblée Générale 2024
DESCRIPTION:Nous serons très Heureux de vous retrouver le : \nJeudi 29 Février dès 18h30\nau Restaurant du Lac – Chemin de la Serre 31 370 Poucharramet \nVous en avez rêvé\, le GEST l’a fait : une AG au bord du lac.\nL’Assemblée Générale est ouverte tant aux membres du Groupement qu’aux non-membres (et pour remercier les membres\, le diner leur est OFFERT par l’association !). \nParticipation au dîner :\n(inscription obligatoire avant le 25.02.2024 pour permettre au restaurateur de s’organiser) \n25 € (pour les non-membres)\n0€ (pour les membres du GEST) \n\nLors de l’assemblée générale 2024\, nous procèderons à l’élection de nouveaux administrateurs. \nC’est pourquoi\, si vous souhaitez vous engager dans le Groupement\, et participer au dynamisme économique du territoire ; vous pouvez adresser votre candidature\naux co-présidents : Claudia BELLIAU FABRE et Julien MASSIP \nPour ce faire\, vous pouvez demander la matrice de postulation à contact@legest.fr \n\nATTENTION\nLe droit de vote est ouvert à tous les membres à jour de leurs cotisations 2024. \nNous vous remercions de votre compréhension\, de votre présence et de votre engagement. \n  \n  \nJe participe à l’AG
URL:https://www.legest.fr/evenement/assemblee-generale-2024/
LOCATION:Restaurant du Lac\, Chemin de la Serre\, Poucharramet\, 31370\, France
CATEGORIES:Assemblée générale,Temps fort
ATTACH;FMTTYPE=image/png:https://www.legest.fr/wp-content/media/assemblee-generale-2024.png
ORGANIZER;CN="Le Gest":MAILTO:contact@legest.fr
END:VEVENT
END:VCALENDAR