BEGIN:VCALENDAR
VERSION:2.0
PRODID:-//Le Gest - ECPv6.15.20//NONSGML v1.0//EN
CALSCALE:GREGORIAN
METHOD:PUBLISH
X-ORIGINAL-URL:https://www.legest.fr
X-WR-CALDESC:Évènements pour Le Gest
REFRESH-INTERVAL;VALUE=DURATION:PT1H
X-Robots-Tag:noindex
X-PUBLISHED-TTL:PT1H
BEGIN:VTIMEZONE
TZID:Europe/Paris
BEGIN:DAYLIGHT
TZOFFSETFROM:+0100
TZOFFSETTO:+0200
TZNAME:CEST
DTSTART:20230326T010000
END:DAYLIGHT
BEGIN:STANDARD
TZOFFSETFROM:+0200
TZOFFSETTO:+0100
TZNAME:CET
DTSTART:20231029T010000
END:STANDARD
BEGIN:DAYLIGHT
TZOFFSETFROM:+0100
TZOFFSETTO:+0200
TZNAME:CEST
DTSTART:20240331T010000
END:DAYLIGHT
BEGIN:STANDARD
TZOFFSETFROM:+0200
TZOFFSETTO:+0100
TZNAME:CET
DTSTART:20241027T010000
END:STANDARD
BEGIN:DAYLIGHT
TZOFFSETFROM:+0100
TZOFFSETTO:+0200
TZNAME:CEST
DTSTART:20250330T010000
END:DAYLIGHT
BEGIN:STANDARD
TZOFFSETFROM:+0200
TZOFFSETTO:+0100
TZNAME:CET
DTSTART:20251026T010000
END:STANDARD
END:VTIMEZONE
BEGIN:VEVENT
DTSTART;TZID=Europe/Paris:20241004T120000
DTEND;TZID=Europe/Paris:20241004T140000
DTSTAMP:20260424T154124
CREATED:20240925T140236Z
LAST-MODIFIED:20240925T140720Z
UID:8446-1728043200-1728050400@www.legest.fr
SUMMARY:DÉJEUNER INTERCLUB  vendredi 4 octobre 12h00
DESCRIPTION:Déjeuner interclub à Saint-Sulpice !\nVous en rêviez secrètement\, on l’a fait ! Aleva et le GEST sont ravis de vous proposer cet événement ! Réservez vite vos places\, elles sont limitées.\nCréez des synergies\, rencontrez\, échangez entre membres de clubs autour d’un délicieux repas\nLa good news ? Grace à un savant système de chaise musicale entre les plats\, vous aurez la chance de rencontrer encore plus de monde et réseauter ! Génial non ?\nHâte de vous retrouver !\n  \nComment ça se passe ?\nOu ? @brasseriedumidi31 à Saint-Sulpice-sur-Lèze \nQuand ? 4 octobre à 12h \nComment ? En cliquant ci-dessous ! \n  \n  \n  \nInscrivez-vous !
URL:https://www.legest.fr/evenement/dejeuner-interclub-vendredi-4-octobre-12h00/
LOCATION:Brasserie du midi\, 33 rue de la République\, SAINT-SULPICE-SUR-LÈZE\, 31410
CATEGORIES:Gest'Affaire,Interclub
ATTACH;FMTTYPE=image/png:https://www.legest.fr/wp-content/media/Capture-decran-2024-09-25-a-15.56.15.png
ORGANIZER;CN="Aleva":MAILTO:contact@club-aleva.fr
END:VEVENT
END:VCALENDAR